BEGIN:VCALENDAR
VERSION:2.0
PRODID:-//H.O.T. Oldtimertreffen - ECPv6.15.18//NONSGML v1.0//EN
CALSCALE:GREGORIAN
METHOD:PUBLISH
X-ORIGINAL-URL:https://www.hot-oldtimertreffen.de
X-WR-CALDESC:Veranstaltungen für H.O.T. Oldtimertreffen
REFRESH-INTERVAL;VALUE=DURATION:PT1H
X-Robots-Tag:noindex
X-PUBLISHED-TTL:PT1H
BEGIN:VTIMEZONE
TZID:Europe/Berlin
BEGIN:DAYLIGHT
TZOFFSETFROM:+0100
TZOFFSETTO:+0200
TZNAME:CEST
DTSTART:20210328T010000
END:DAYLIGHT
BEGIN:STANDARD
TZOFFSETFROM:+0200
TZOFFSETTO:+0100
TZNAME:CET
DTSTART:20211031T010000
END:STANDARD
BEGIN:DAYLIGHT
TZOFFSETFROM:+0100
TZOFFSETTO:+0200
TZNAME:CEST
DTSTART:20220327T010000
END:DAYLIGHT
BEGIN:STANDARD
TZOFFSETFROM:+0200
TZOFFSETTO:+0100
TZNAME:CET
DTSTART:20221030T010000
END:STANDARD
BEGIN:DAYLIGHT
TZOFFSETFROM:+0100
TZOFFSETTO:+0200
TZNAME:CEST
DTSTART:20230326T010000
END:DAYLIGHT
BEGIN:STANDARD
TZOFFSETFROM:+0200
TZOFFSETTO:+0100
TZNAME:CET
DTSTART:20231029T010000
END:STANDARD
END:VTIMEZONE
BEGIN:VEVENT
DTSTART;TZID=Europe/Berlin:20220417T110000
DTEND;TZID=Europe/Berlin:20220417T140000
DTSTAMP:20260424T101753
CREATED:20211016T124208Z
LAST-MODIFIED:20220405T185222Z
UID:9433-1650193200-1650204000@www.hot-oldtimertreffen.de
SUMMARY:H.O.T. - Angrillen
DESCRIPTION:Eine Anmeldung zum Angrillen ist nicht erforderlich.
URL:https://www.hot-oldtimertreffen.de/event/h-o-t-angrillen/
LOCATION:68526 Ladenburg/Rosenhof; Schriesheimer Fußweg 7 (gegenüber von Café Huben)\, Deutschland
CATEGORIES:Events
ATTACH;FMTTYPE=image/jpeg:https://www.hot-oldtimertreffen.de/wp-content/uploads/2021/08/IMG_2919_ji-scaled.jpg
END:VEVENT
END:VCALENDAR