BEGIN:VCALENDAR
VERSION:2.0
PRODID:-//H.O.T. Oldtimertreffen - ECPv6.15.18//NONSGML v1.0//EN
CALSCALE:GREGORIAN
METHOD:PUBLISH
X-WR-CALNAME:H.O.T. Oldtimertreffen
X-ORIGINAL-URL:https://www.hot-oldtimertreffen.de
X-WR-CALDESC:Veranstaltungen für H.O.T. Oldtimertreffen
REFRESH-INTERVAL;VALUE=DURATION:PT1H
X-Robots-Tag:noindex
X-PUBLISHED-TTL:PT1H
BEGIN:VTIMEZONE
TZID:Europe/Berlin
BEGIN:DAYLIGHT
TZOFFSETFROM:+0100
TZOFFSETTO:+0200
TZNAME:CEST
DTSTART:20210328T010000
END:DAYLIGHT
BEGIN:STANDARD
TZOFFSETFROM:+0200
TZOFFSETTO:+0100
TZNAME:CET
DTSTART:20211031T010000
END:STANDARD
BEGIN:DAYLIGHT
TZOFFSETFROM:+0100
TZOFFSETTO:+0200
TZNAME:CEST
DTSTART:20220327T010000
END:DAYLIGHT
BEGIN:STANDARD
TZOFFSETFROM:+0200
TZOFFSETTO:+0100
TZNAME:CET
DTSTART:20221030T010000
END:STANDARD
BEGIN:DAYLIGHT
TZOFFSETFROM:+0100
TZOFFSETTO:+0200
TZNAME:CEST
DTSTART:20230326T010000
END:DAYLIGHT
BEGIN:STANDARD
TZOFFSETFROM:+0200
TZOFFSETTO:+0100
TZNAME:CET
DTSTART:20231029T010000
END:STANDARD
END:VTIMEZONE
BEGIN:VEVENT
DTSTART;TZID=Europe/Berlin:20220424T130000
DTEND;TZID=Europe/Berlin:20220424T180000
DTSTAMP:20260424T101555
CREATED:20220317T171141Z
LAST-MODIFIED:20220317T171223Z
UID:10037-1650805200-1650823200@www.hot-oldtimertreffen.de
SUMMARY:Oldtimer Treff Osthofen
DESCRIPTION:Für dieses Treffen ist der genannte Veranstalter verantwortlich. \nAlle Informationen zu diesem Treffen findet ihr auf der Seite der Stadt Osthofen.
URL:https://www.hot-oldtimertreffen.de/event/oldtimer-treff-osthofen/
LOCATION:67574 Osthofen; Ludwig-Schwamb-Straße\, Ludwig-Schwamb-Straße\, Osthofen\, Rheinland-Pfalz\, 67574\, Deutschland
CATEGORIES:weitere interessante Termine
ATTACH;FMTTYPE=image/jpeg:https://www.hot-oldtimertreffen.de/wp-content/uploads/2022/03/Oldi_Osthofen.jpg
END:VEVENT
END:VCALENDAR