BEGIN:VCALENDAR
VERSION:2.0
PRODID:-//H.O.T. Oldtimertreffen - ECPv6.15.18//NONSGML v1.0//EN
CALSCALE:GREGORIAN
METHOD:PUBLISH
X-WR-CALNAME:H.O.T. Oldtimertreffen
X-ORIGINAL-URL:https://www.hot-oldtimertreffen.de
X-WR-CALDESC:Veranstaltungen für H.O.T. Oldtimertreffen
REFRESH-INTERVAL;VALUE=DURATION:PT1H
X-Robots-Tag:noindex
X-PUBLISHED-TTL:PT1H
BEGIN:VTIMEZONE
TZID:Europe/Berlin
BEGIN:DAYLIGHT
TZOFFSETFROM:+0100
TZOFFSETTO:+0200
TZNAME:CEST
DTSTART:20210328T010000
END:DAYLIGHT
BEGIN:STANDARD
TZOFFSETFROM:+0200
TZOFFSETTO:+0100
TZNAME:CET
DTSTART:20211031T010000
END:STANDARD
BEGIN:DAYLIGHT
TZOFFSETFROM:+0100
TZOFFSETTO:+0200
TZNAME:CEST
DTSTART:20220327T010000
END:DAYLIGHT
BEGIN:STANDARD
TZOFFSETFROM:+0200
TZOFFSETTO:+0100
TZNAME:CET
DTSTART:20221030T010000
END:STANDARD
BEGIN:DAYLIGHT
TZOFFSETFROM:+0100
TZOFFSETTO:+0200
TZNAME:CEST
DTSTART:20230326T010000
END:DAYLIGHT
BEGIN:STANDARD
TZOFFSETFROM:+0200
TZOFFSETTO:+0100
TZNAME:CET
DTSTART:20231029T010000
END:STANDARD
END:VTIMEZONE
BEGIN:VEVENT
DTSTART;TZID=Europe/Berlin:20220910T130000
DTEND;TZID=Europe/Berlin:20220910T200000
DTSTAMP:20260424T035918
CREATED:20220724T145108Z
LAST-MODIFIED:20220724T145108Z
UID:14066-1662814800-1662840000@www.hot-oldtimertreffen.de
SUMMARY:Worms Classics powered by H.O.T.
DESCRIPTION:H.O.T. presents Worms Classics 2022\nAuf der Website findet ihr alle Informationen und Anmeldeformular für Besucher und Aussteller. \nMeldet Euch an und lasst das es ein richtiges Festival werden.
URL:https://www.hot-oldtimertreffen.de/event/worms-classics-powered-by-h-o-t/
LOCATION:Festplatz Worms\, Kastanienallee\, Worms\, Rheinland-Pfalz\, 67547\, Deutschland
CATEGORIES:Events
ATTACH;FMTTYPE=image/png:https://www.hot-oldtimertreffen.de/wp-content/uploads/2022/07/Worms-Classics-2022-ohne-Schatten-002.png
END:VEVENT
END:VCALENDAR