BEGIN:VCALENDAR
VERSION:2.0
PRODID:-//H.O.T. Oldtimertreffen - ECPv6.15.18//NONSGML v1.0//EN
CALSCALE:GREGORIAN
METHOD:PUBLISH
X-WR-CALNAME:H.O.T. Oldtimertreffen
X-ORIGINAL-URL:https://www.hot-oldtimertreffen.de
X-WR-CALDESC:Veranstaltungen für H.O.T. Oldtimertreffen
REFRESH-INTERVAL;VALUE=DURATION:PT1H
X-Robots-Tag:noindex
X-PUBLISHED-TTL:PT1H
BEGIN:VTIMEZONE
TZID:Europe/Berlin
BEGIN:DAYLIGHT
TZOFFSETFROM:+0100
TZOFFSETTO:+0200
TZNAME:CEST
DTSTART:20220327T010000
END:DAYLIGHT
BEGIN:STANDARD
TZOFFSETFROM:+0200
TZOFFSETTO:+0100
TZNAME:CET
DTSTART:20221030T010000
END:STANDARD
BEGIN:DAYLIGHT
TZOFFSETFROM:+0100
TZOFFSETTO:+0200
TZNAME:CEST
DTSTART:20230326T010000
END:DAYLIGHT
BEGIN:STANDARD
TZOFFSETFROM:+0200
TZOFFSETTO:+0100
TZNAME:CET
DTSTART:20231029T010000
END:STANDARD
BEGIN:DAYLIGHT
TZOFFSETFROM:+0100
TZOFFSETTO:+0200
TZNAME:CEST
DTSTART:20240331T010000
END:DAYLIGHT
BEGIN:STANDARD
TZOFFSETFROM:+0200
TZOFFSETTO:+0100
TZNAME:CET
DTSTART:20241027T010000
END:STANDARD
END:VTIMEZONE
BEGIN:VEVENT
DTSTART;TZID=Europe/Berlin:20230820T110000
DTEND;TZID=Europe/Berlin:20230820T140000
DTSTAMP:20260423T131016
CREATED:20221106T114130Z
LAST-MODIFIED:20230630T183631Z
UID:14567-1692529200-1692540000@www.hot-oldtimertreffen.de
SUMMARY:112. H.O.T.
DESCRIPTION:
URL:https://www.hot-oldtimertreffen.de/event/112-h-o-t/
LOCATION:68526 Ladenburg/Rosenhof; Schriesheimer Fußweg 7 (gegenüber von Café Huben)\, Deutschland
CATEGORIES:Events
ATTACH;FMTTYPE=image/jpeg:https://www.hot-oldtimertreffen.de/wp-content/uploads/2022/08/BILD0072_ji.jpg
END:VEVENT
END:VCALENDAR