BEGIN:VCALENDAR
VERSION:2.0
PRODID:-//H.O.T. Oldtimertreffen - ECPv6.15.18//NONSGML v1.0//EN
CALSCALE:GREGORIAN
METHOD:PUBLISH
X-WR-CALNAME:H.O.T. Oldtimertreffen
X-ORIGINAL-URL:https://www.hot-oldtimertreffen.de
X-WR-CALDESC:Veranstaltungen für H.O.T. Oldtimertreffen
REFRESH-INTERVAL;VALUE=DURATION:PT1H
X-Robots-Tag:noindex
X-PUBLISHED-TTL:PT1H
BEGIN:VTIMEZONE
TZID:Europe/Berlin
BEGIN:DAYLIGHT
TZOFFSETFROM:+0100
TZOFFSETTO:+0200
TZNAME:CEST
DTSTART:20220327T010000
END:DAYLIGHT
BEGIN:STANDARD
TZOFFSETFROM:+0200
TZOFFSETTO:+0100
TZNAME:CET
DTSTART:20221030T010000
END:STANDARD
BEGIN:DAYLIGHT
TZOFFSETFROM:+0100
TZOFFSETTO:+0200
TZNAME:CEST
DTSTART:20230326T010000
END:DAYLIGHT
BEGIN:STANDARD
TZOFFSETFROM:+0200
TZOFFSETTO:+0100
TZNAME:CET
DTSTART:20231029T010000
END:STANDARD
BEGIN:DAYLIGHT
TZOFFSETFROM:+0100
TZOFFSETTO:+0200
TZNAME:CEST
DTSTART:20240331T010000
END:DAYLIGHT
BEGIN:STANDARD
TZOFFSETFROM:+0200
TZOFFSETTO:+0100
TZNAME:CET
DTSTART:20241027T010000
END:STANDARD
END:VTIMEZONE
BEGIN:VEVENT
DTSTART;TZID=Europe/Berlin:20230917T100000
DTEND;TZID=Europe/Berlin:20230917T180000
DTSTAMP:20260423T115013
CREATED:20221106T114624Z
LAST-MODIFIED:20221106T114624Z
UID:14571-1694944800-1694973600@www.hot-oldtimertreffen.de
SUMMARY:Worms Classics 2023
DESCRIPTION:
URL:https://www.hot-oldtimertreffen.de/event/worms-classics-2023/
LOCATION:Festplatz Worms\, Kastanienallee\, Worms\, Rheinland-Pfalz\, 67547\, Deutschland
CATEGORIES:Events,weitere interessante Termine
ATTACH;FMTTYPE=image/png:https://www.hot-oldtimertreffen.de/wp-content/uploads/2022/11/logo-stern.png
END:VEVENT
BEGIN:VEVENT
DTSTART;TZID=Europe/Berlin:20230917T110000
DTEND;TZID=Europe/Berlin:20230917T140000
DTSTAMP:20260423T115013
CREATED:20221106T114335Z
LAST-MODIFIED:20230723T171707Z
UID:14569-1694948400-1694959200@www.hot-oldtimertreffen.de
SUMMARY:113. H.O.T. gemeinsam mit der Worms Classics
DESCRIPTION:Das 113. H.O.T. findet gemeinsam mit der Worms Classics 2023 IN Worms statt. \nWir freuen uns Euch dort auch begrüßen zu können. Meldet Euch einfach hier an.
URL:https://www.hot-oldtimertreffen.de/event/113-h-o-t/
LOCATION:Festplatz; 67547 Worms
CATEGORIES:Events
ATTACH;FMTTYPE=image/jpeg:https://www.hot-oldtimertreffen.de/wp-content/uploads/2022/10/IMG_2137_ji.jpg
END:VEVENT
END:VCALENDAR